BEGIN:VCALENDAR
VERSION:2.0
PRODID:-//Glassman-Lassalle//NONSGML kigkonsult.se iCalcreator 2.16.12//
METHOD:PUBLISH
X-MS-OLK-FORCEINSPECTOROPEN:TRUE
BEGIN:VEVENT
UID:20260422T120201CEST-9584L9rEM3@Glassman-Lassalle
DTSTAMP:20260422T100201Z
DESCRIPTION:
DTSTART:20261107T100000
DTEND:20261107T160000
LOCATION:Bethaus Wiedikon\, Zürich
ORGANIZER:MAILTO:Glassman-Lassalle <admin@netzton.ch>
SUMMARY:Zazenkai mit Klaus-Peter Wichmann
END:VEVENT
END:VCALENDAR
