BEGIN:VCALENDAR
VERSION:2.0
PRODID:-//Glassman-Lassalle//NONSGML kigkonsult.se iCalcreator 2.16.12//
METHOD:PUBLISH
X-MS-OLK-FORCEINSPECTOROPEN:TRUE
BEGIN:VEVENT
UID:20260424T122708CEST-1642FPUSGV@Glassman-Lassalle
DTSTAMP:20260424T102708Z
DESCRIPTION:
DTSTART:20260829T093000
DTEND:20260829T170000
LOCATION:Zen Zentrum Basel
ORGANIZER:MAILTO:Glassman-Lassalle <admin@netzton.ch>
SUMMARY:Zen-Einführung mit Peter Widmer (1 Tag)
END:VEVENT
END:VCALENDAR
