BEGIN:VCALENDAR
VERSION:2.0
PRODID:-//Glassman-Lassalle//NONSGML kigkonsult.se iCalcreator 2.16.12//
METHOD:PUBLISH
X-MS-OLK-FORCEINSPECTOROPEN:TRUE
BEGIN:VEVENT
UID:20260424T122748CEST-8419C47xId@Glassman-Lassalle
DTSTAMP:20260424T102748Z
DESCRIPTION:
DTSTART:20261113T183000
DTEND:20261115T133000
LOCATION:Kloster Fischingen
ORGANIZER:MAILTO:Glassman-Lassalle <admin@netzton.ch>
SUMMARY:Zen-Einführung mit Klaus-Peter Wichmann (3 Tage)
END:VEVENT
END:VCALENDAR
