BEGIN:VCALENDAR
VERSION:2.0
PRODID:-//Glassman-Lassalle//NONSGML kigkonsult.se iCalcreator 2.16.12//
METHOD:PUBLISH
X-MS-OLK-FORCEINSPECTOROPEN:TRUE
BEGIN:VEVENT
UID:20260422T105132CEST-8742Z9V4cr@Glassman-Lassalle
DTSTAMP:20260422T085132Z
DESCRIPTION:
DTSTART:20261211T180000
DTEND:20261213T133000
LOCATION:Propstei Wislikofen\, Wislikofen
ORGANIZER:MAILTO:Glassman-Lassalle <admin@netzton.ch>
SUMMARY:Zazenkai mit Ursula Popp
END:VEVENT
END:VCALENDAR
