BEGIN:VCALENDAR
VERSION:2.0
PRODID:-//Glassman-Lassalle//NONSGML kigkonsult.se iCalcreator 2.16.12//
METHOD:PUBLISH
X-MS-OLK-FORCEINSPECTOROPEN:TRUE
BEGIN:VEVENT
UID:20260424T122748CEST-8422bTeBE3@Glassman-Lassalle
DTSTAMP:20260424T102748Z
DESCRIPTION:
DTSTART:20260524T160000
DTEND:20260529T130000
LOCATION:Propstei Wislikofen
ORGANIZER:MAILTO:Glassman-Lassalle <admin@netzton.ch>
SUMMARY:Zen und Metta-Meditation mit Peter Widmer
END:VEVENT
END:VCALENDAR
