BEGIN:VCALENDAR
VERSION:2.0
PRODID:-//Glassman-Lassalle//NONSGML kigkonsult.se iCalcreator 2.16.12//
METHOD:PUBLISH
X-MS-OLK-FORCEINSPECTOROPEN:TRUE
BEGIN:VEVENT
UID:20260424T112103CEST-9145GXt1F3@Glassman-Lassalle
DTSTAMP:20260424T092103Z
DESCRIPTION:
DTSTART:20260910T180000
DTEND:20260914T130000
LOCATION:Altes Kurhaus\, Melchtal
ORGANIZER:MAILTO:Glassman-Lassalle <admin@netzton.ch>
SUMMARY:Sesshin mit Jürgen Lembke
END:VEVENT
END:VCALENDAR
