BEGIN:VCALENDAR
VERSION:2.0
PRODID:-//Glassman-Lassalle//NONSGML kigkonsult.se iCalcreator 2.16.12//
METHOD:PUBLISH
X-MS-OLK-FORCEINSPECTOROPEN:TRUE
BEGIN:VEVENT
UID:20260422T121815CEST-6945JkIptF@Glassman-Lassalle
DTSTAMP:20260422T101815Z
DESCRIPTION:
DTSTART:20260730T180000
DTEND:20260802T130000
LOCATION:Altes Kurhaus\, Melchtal
ORGANIZER:MAILTO:Glassman-Lassalle <admin@netzton.ch>
SUMMARY:Zazenkai mit Jürgen Lembke
END:VEVENT
END:VCALENDAR
