BEGIN:VCALENDAR
VERSION:2.0
PRODID:-//Glassman-Lassalle//NONSGML kigkonsult.se iCalcreator 2.16.12//
METHOD:PUBLISH
X-MS-OLK-FORCEINSPECTOROPEN:TRUE
BEGIN:VEVENT
UID:20260422T122756CEST-5444ipb4x0@Glassman-Lassalle
DTSTAMP:20260422T102756Z
DESCRIPTION:
DTSTART:20260418T091500
DTEND:20260418T170000
LOCATION:Zendo Inneres Lind\, Winterthur
ORGANIZER:MAILTO:Glassman-Lassalle <admin@netzton.ch>
SUMMARY:Zazenkai mit Kathrin Stotz
END:VEVENT
END:VCALENDAR
